BEGIN:VCALENDAR
VERSION:2.0
PRODID:icalendar-ruby
CALSCALE:GREGORIAN
METHOD:PUBLISH
BEGIN:VEVENT
DTSTAMP:20260420T155209Z
UID:7-2042707@mabelvalecofc.org
DTSTART:20261101T163000Z
DTEND:20261101T173000Z
CLASS:PUBLIC
CREATED:20260420T084831
DESCRIPTION:
LAST-MODIFIED:20260420T084831
LOCATION:The Gathering Place
SUMMARY:Worship
URL;VALUE=URI:https://mabelvalecofc.org/events/worship/2026-11-01
ATTACH;FILENAME=9FHx.jpg;FMTTYPE=image/jpeg:https://dq5pwpg1q8ru0.cloudfron
 t.net/2021/10/01/14/55/23/f8e1e84d-e7c0-4710-813b-0440811a4766/9FHx.jpg
END:VEVENT
END:VCALENDAR
